BEGIN:VCALENDAR
VERSION:2.0
PRODID:-//Americana Manhasset//Americana Event//EN
BEGIN:VEVENT
SUMMARY:Cannoli Roam
DTSTART;VALUE=DATE-TIME:20260425T160000Z
DTEND;VALUE=DATE-TIME:20260425T200000Z
DTSTAMP;VALUE=DATE-TIME:20260421T214005Z
UID:3685
DESCRIPTION:04/25/2026 12:00PM 04/25/2026 04:00PM - EDT EDT\nEnjoy the lux
 urious experience of the roaming cannoli station!\nTraditional cannoli\, c
 ream filled on the spot to keep 100% of the quality and crispness.\nContac
 t our \nAmericana Concierge ()\n for more details.
URL:https://www.americanamanhasset.com/events/upcoming-events/americana-ca
 nnoli-roam-2/
END:VEVENT
END:VCALENDAR
