BEGIN:VCALENDAR
VERSION:2.0
PRODID:-//Americana Manhasset//Americana Event//EN
BEGIN:VEVENT
SUMMARY:Mother's Day
DTSTART;VALUE=DATE-TIME:20260509T160000Z
DTEND;VALUE=DATE-TIME:20260509T210000Z
DTSTAMP;VALUE=DATE-TIME:20260423T183025Z
UID:3684
DESCRIPTION:05/09/2026 12:00PM 05/09/2026 05:00PM - EDT EDT\nCelebrate Mot
 her's Day with Michael Kors and receive a complimentary floral bouquet wit
 h your purchase of $250 or more.\nContact our \nMichael Kors ()\n boutique
  for more details.
URL:https://www.americanamanhasset.com/events/upcoming-events/michael-kors
 -mothers-day/
END:VEVENT
END:VCALENDAR
