BEGIN:VCALENDAR
VERSION:2.0
PRODID:-//Americana Manhasset//Americana Event//EN
BEGIN:VEVENT
SUMMARY:Elevated In Motion
DTSTART;VALUE=DATE:20260425
DTEND;VALUE=DATE:20260426
DTSTAMP;VALUE=DATE-TIME:20260421T050835Z
UID:3682
DESCRIPTION:04/25/2026\nCome celebrate the launch of the Sport 2026 Collec
 tion with an afternoon of shopping and sport-inspired style.\nContact our 
 \nSt.John ()\n boutique to schedule a styling appointment or to learn more
  about the event.
URL:https://www.americanamanhasset.com/events/upcoming-events/st-john-spor
 t-2026-collection/
END:VEVENT
END:VCALENDAR
