BEGIN:VCALENDAR
VERSION:2.0
PRODID:-//Americana Manhasset//Americana Event//EN
BEGIN:VEVENT
SUMMARY:Family Portraits
DTSTART;VALUE=DATE-TIME:20260502T170000Z
DTEND;VALUE=DATE-TIME:20260502T220000Z
DTSTAMP;VALUE=DATE-TIME:20260421T213857Z
UID:3679
DESCRIPTION:05/02/2026 01:00PM 05/02/2026 06:00PM - EDT EDT\nJoin us at Ti
 ffany & Co. for an exclusive family portrait experience just in time for M
 other's Day.\nSchedule your appointment by emailing \nJackie.Corpuz@Tiffan
 y.com (mailto:Jackie.Corpuz@Tiffany.com)\n.
URL:https://www.americanamanhasset.com/events/upcoming-events/tiffany-co-f
 amily-portraits/
END:VEVENT
END:VCALENDAR
