BEGIN:VCALENDAR
VERSION:2.0
PRODID:-//Americana Manhasset//Americana Event//EN
BEGIN:VEVENT
SUMMARY:Mother's Day Trunk Show
DTSTART;VALUE=DATE:20260424
DTEND;VALUE=DATE:20260427
DTSTAMP;VALUE=DATE-TIME:20260423T223302Z
UID:3688
DESCRIPTION:04/24/2026 - 04/26/2026\nPlease join host Kelly Gaudreau for a
  Mother's Day Pop-Up event.\nGet Mother's Day & Summer hosting ready with 
 Veronica Beard!\nContact our \nVeronica Beard ()\n boutique for more detai
 ls.
URL:https://www.americanamanhasset.com/events/upcoming-events/veronica-bea
 rd-mothers-day-trunk-show/
END:VEVENT
END:VCALENDAR
