BEGIN:VCALENDAR
VERSION:2.0
PRODID:-//Americana Manhasset//Americana Event//EN
BEGIN:VEVENT
SUMMARY:Shop for A Cause- Penny's Flight
DTSTART;VALUE=DATE:20260505
DTEND;VALUE=DATE:20260506
DTSTAMP;VALUE=DATE-TIME:20260423T223352Z
UID:3689
DESCRIPTION:05/05/2026\nShop the latest collection from Veronica Beard! \n
 15% of sales  will be donated to Penny's Flight Foundation.\n11am to 1pm |
  Shop with Kate Doerge\, Lauren Ditrapani\, Lauren Glick\, Lizzy Heller\, 
 Gwen Levy\, Beth Mallor\, Jen Ostrow\, & Keren Shemel.\n5pm to 7pm | Shop 
 with Families and Friends of:\nGreen Vale School\nFriends Academy\nPortled
 ge School\nKate Doege\, Michelle Cuddeback\, Rebecca Dougherty\, Vasiliann
 a Fakiris\, Diana Fredricks\, Megan Grant\, Chris Koundourakis\, Ashley My
 les\, & Meg Woodhouse.\nPlease RSVP to \nManhassetRSVP@veronicabeard.com (
 mailto:ManhassetRSVP@veronicabeard.com)\n.
URL:https://www.americanamanhasset.com/events/upcoming-events/veronica-bea
 rd-shop-for-a-cause-pennys-flight-foundation-may/
END:VEVENT
END:VCALENDAR
