BEGIN:VCALENDAR
VERSION:2.0
PRODID:-//Americana Manhasset//Americana Event//EN
BEGIN:VEVENT
SUMMARY:Denim Week
DTSTART;VALUE=DATE:20260420
DTEND;VALUE=DATE:20260427
DTSTAMP;VALUE=DATE-TIME:20260421T050836Z
UID:3683
DESCRIPTION:04/20/2026 - 04/26/2026\nCelebrate Earth Day with Veronica Bea
 rd!\nRecycle any denim item (90% cotton or higher) at our VB store\, and g
 et 20% off any same-day\, in-store\, denim purchase.\nContact our \nVeroni
 ca Beard ()\n boutique for more details.
URL:https://www.americanamanhasset.com/events/upcoming-events/veronica-den
 im-week/
END:VEVENT
END:VCALENDAR
